BEGIN:VCALENDAR
VERSION:2.0
PRODID:-//Hondenschool CYNOPOLIS vzw. - ECPv6.15.18//NONSGML v1.0//EN
CALSCALE:GREGORIAN
METHOD:PUBLISH
X-WR-CALNAME:Hondenschool CYNOPOLIS vzw.
X-ORIGINAL-URL:https://cynopolis.be
X-WR-CALDESC:Events voor Hondenschool CYNOPOLIS vzw.
REFRESH-INTERVAL;VALUE=DURATION:PT1H
X-Robots-Tag:noindex
X-PUBLISHED-TTL:PT1H
BEGIN:VTIMEZONE
TZID:UTC
BEGIN:STANDARD
TZOFFSETFROM:+0000
TZOFFSETTO:+0000
TZNAME:UTC
DTSTART:20250101T000000
END:STANDARD
END:VTIMEZONE
BEGIN:VEVENT
DTSTART;VALUE=DATE:20260420
DTEND;VALUE=DATE:20260425
DTSTAMP:20260420T104759
CREATED:20260129T093825Z
LAST-MODIFIED:20260129T093825Z
UID:2495-1776643200-1777075199@cynopolis.be
SUMMARY:Geen lessen
DESCRIPTION:
URL:https://cynopolis.be/events/geen-lessen-2/
CATEGORIES:Sluitingsdagen
ATTACH;FMTTYPE=image/jpeg:https://cynopolis.be/wp-content/uploads/2025/01/gesloten2.jpg
END:VEVENT
END:VCALENDAR